Workbook

Sheet 1.Synthèse
B1: Synthèse du cadre de décomposition des prix et analyse du scénario de référence
B2: ='3.Tarifs'!B2:F2 -> Consultation "Système intégré de gestion de la formation externe ADEME"
B4: Soumissionnaire | F4: Durée totale du marché (mois) | G4: Durée d'exploitation (mois)
B5: Raison sociale | C5: ='3.Tarifs'!B4 -> NOM DU CANDIDAT | F5: =12*6 -> 72 | G5: =12*5+4 -> 64
B6: Taux TVA | C6: 0.2
D8: Montants (€ HT) | F8: Répartition des montants HT | G8: Montant (€ TTC)
B9: Unité d'œuvre | C9: Forfait / Bon de commande | D9: Prix unitaire (€ HT) | E9: Prix HT sur la durée du marché (estimation sur scénario de référence) | G9: Prix TTC sur la durée du marché (estimation sur scénario de référence)
B10: TOTAL | E10: =E11+E14+E49+E57 -> 0 | F10: 1 | G10: =E10*(1+$C$6) -> 0
B11: ='3.Tarifs'!B6 -> PRESTATION 1 : DROIT D'UTILISATION DE(S) OUTIL(S) DE FORMATIONS MULTIMODALES (licences/abonnement et services récurrents forfaitaires) | D11: =SUM(D12:D13) -> 0 | E11: =SUM(E12:E13) -> 0 | F11: =E11/$E$10 -> #DIV/0! | G11: =E11*(1+$C$6) -> 0
B12: UTI1 - Licences éditeur/abonnement/hébergement : Bons de commande forfaitaire à montant annuel | C12: Bons de commande ; déclenchement après 12 mois de marché (= après phase projet (Build) + démarrage) | D12: ='3.Tarifs'!F9+'3.Tarifs'!F12+'3.Tarifs'!F15+'3.Tarifs'!F22 -> 0 | E12: =D12/12*($F$5-12) -> 0 | F12: =E12/$E$10 -> #DIV/0! | G12: =E12*(1+$C$6) -> 0
B13: UTI2 - Maintenance logicielle et assistance : Bons de commande forfaitaire à montant annuel | C13: =C12 -> Bons de commande ; déclenchement après 12 mois de marché (= après phase projet (Build) + démarrage) | D13: ='3.Tarifs'!E24+'3.Tarifs'!E27+'3.Tarifs'!E30+'3.Tarifs'!E33 -> 0 | E13: =D13/12*($F$5-12) -> 0 | F13: =E13/$E$10 -> #DIV/0! | G13: =E13*(1+$C$6) -> 0
B14: ='3.Tarifs'!B37 -> PRESTATION 2 : MISE EN ŒUVRE DE LA SOLUTION et ACCOMPAGNEMENT À SON UTILISATION | E14: =E15+E32+E36+E45+E47 -> 0 | F14: =E14/$E$10 -> #DIV/0! | G14: =E14*(1+$C$6) -> 0
B15: ='3.Tarifs'!B38 -> 2.1 : Accompagnement technique ou humain en phase de projet : assistance à la configuration et au déploiement de la solution (BUILD) : Bon de commande d'accompagnement technique ou humain, incluant le droit d'utilisation et la maintenance/assistance de l'outil en phase de projet et démarrage (12 mois) | E15: ='3.Tarifs'!F55 -> 0 | F15: =E15/$E$10 -> #DIV/0! | G15: =E15*(1+$C$6) -> 0
B16: {='3.Tarifs'!B39:B54} -> INI1 - Initialisation et étude préalable (prise de connaissance, audit, analyse de l'existant et préconisation sur la cible) | C16: Bon de commande ; déclenchement à la notification du marché pour lancement des travaux de mise en oeuvre de la solution numérique (12 premiers mois du marché) | D16: ='3.Tarifs'!F55 -> 0 | E16: =D16 -> 0 | G16: =E16*(1+$C$6) -> 0
B17: ASS1 - Assistance MOA et MOE - Pilotage de projet
B18: ASS2 - Assistance MOA et MOE - Conception
B19: ASS3 - Assistance MOA et MOE - Réalisation/intégration (paramétrage de ou des outils)
B20: ASS4 - Assistance MOA et MOE - Recette
B21: ASS5 - Assistance MOA et MOE - Déploiement
B22: RDD1 - Reprise des données
B23: CON2 - Conception de wireframe (UX)
B24: CON3 - Conception de maquettes (UI)
B25: ACC1 - Accompagnement au déploiement - Stratégie de gestion de la transition Elaboration et mise en oeuvre d'un plan de transition garantissant la continuité de service.
B26: ACC2 - Accompagnement au déploiement - Plan d'accompagnement Accompagnement opérationnel des utilisateurs et pilotage de la phase de transition.
B27: ACC3 - Accompagnement au déploiement - Communication Mise en œuvre d’un plan de communication utilisateurs durant la phase de transition.
B28: ACC4 - Accompagnement au déploiement - Formation des utilisateurs et documentation Formation des utilisateurs et fourniture de la documentation associée.
... B31: PIL1 - Assistance transversale au pilotage du projet et à la coordination des parties prenantes
B32: ='3.Tarifs'!B57 -> 2.2 : Accompagnement ponctuel à la mise en place d'interfaces personnalisées (BUILD ou RUN) : Bons de commande d'accompagnement | E32: =SUM(E33:E35) -> 0 | F32: =E32/$E$10 -> #DIV/0! | G32: =E32*(1+$C$6) -> 0
B33: ='3.Tarifs'!B58 -> INT1 - Analyse, réalisation, test et pilotage pour une interface / simple | C33: Bons de commande | D33: ='3.Tarifs'!F58 -> 0 | E33: ='3.Tarifs'!I58 -> 0 | F33: =E33/$E$10 -> #DIV/0! | G33: =E33*(1+$C$6) -> 0
B34: ='3.Tarifs'!B59 -> INT2 - Analyse, réalisation, test et pilotage pour une interface / intermédiaire | C34: Bons de commande | D34: ='3.Tarifs'!F59 -> 0 | E34: ='3.Tarifs'!I59 -> 0 | F34: =E34/$E$10 -> #DIV/0! | G34: =E34*(1+$C$6) -> 0
B35: ='3.Tarifs'!B60 -> INT3 - Analyse, réalisation, test et pilotage pour une interface / complexe | C35: Bons de commande | D35: ='3.Tarifs'!F60 -> 0 | E35: ='3.Tarifs'!I60 -> 0 | F35: =E35/$E$10 -> #DIV/0! | G35: =E35*(1+$C$6) -> 0
B36: ='3.Tarifs'!B63 -> 2.3 Accompagnement à l'utilisation de la solution en mode récurrent (RUN) : Bons de commande d'accompagnement | E36: =SUM(E37:E44) -> 0 | F36: =E36/$E$10 -> #DIV/0! | G36: =E36*(1+$C$6) -> 0
B37: {='3.Tarifs'!B64:B71} -> CON1 - Conseil & assistance métier (formations utilisateurs & nouvelles fonctionnalités) | C37: Bons de commande | D37: ='3.Tarifs'!F64 -> 0 | E37: ='3.Tarifs'!I64/12*$G$5 -> 0 | F37: =E37/$E$10 -> #DIV/0! | G37: =E37*(1+$C$6) -> 0
B38: TMA1 - Tierce maintenance applicative (maintenance évolutive / simple) | C38: Bons de commande | D38: ='3.Tarifs'!F65 -> 0 | E38: ='3.Tarifs'!I65/12*$G$5 -> 0 | F38: =E38/$E$10 -> #DIV/0! | G38: =E38*(1+$C$6) -> 0
B39: TMA2 - Tierce maintenance applicative (maintenance évolutive / intermédiaire) | C39: Bons de commande | D39: ='3.Tarifs'!F66 -> 0 | E39: ='3.Tarifs'!I66/12*$G$5 -> 0 | F39: =E39/$E$10 -> #DIV/0! | G39: =E39*(1+$C$6) -> 0
B40: TMA3 - Tierce maintenance applicative (maintenance évolutive / complexe) | C40: Bons de commande | D40: ='3.Tarifs'!F67 -> 0 | E40: ='3.Tarifs'!I67/12*$G$5 -> 0 | F40: =E40/$E$10 -> #DIV/0! | G40: =E40*(1+$C$6) -> 0
B41: CHA1 - Actualisation charte graphique (couleur, police, disposition…) | C41: Bons de commande | D41: ='3.Tarifs'!F68 -> 0 | E41: ='3.Tarifs'!I68/12*$G$5 -> 0 | F41: =E41/$E$10 -> #DIV/0! | G41: =E41*(1+$C$6) -> 0
B42: CON4 - Conception de wireframe (UX) | C42: Bons de commande | D42: ='3.Tarifs'!F69 -> 0 | E42: ='3.Tarifs'!I69/12*$G$5 -> 0 | F42: =E42/$E$10 -> #DIV/0! | G42: =E42*(1+$C$6) -> 0
B43: CON5 - Conception de maquettes (UI) | C43: Bons de commande | D43: ='3.Tarifs'!F70 -> 0 | E43: ='3.Tarifs'!I70/12*$G$5 -> 0 | F43: =E43/$E$10 -> #DIV/0! | G43: =E43*(1+$C$6) -> 0
B44: PIL1 - Pilotage prestation UX/UI | C44: Bons de commande | D44: ='3.Tarifs'!F71 -> 0 | E44: ='3.Tarifs'!I71/12*$G$5 -> 0 | F44: =E44/$E$10 -> #DIV/0! | G44: =E44*(1+$C$6) -> 0
...

Sheet 3.Tarifs
B1: Cadre de décomposition des prix
B2: Consultation "Système intégré de gestion de la formation externe ADEME"
B4: NOM DU CANDIDAT | D4: Compléter les cellules en jaune
B6: PRESTATION 1 : DROIT D'UTILISATION DE(S) OUTIL(S) DE FORMATIONS MULTIMODALES (licences/abonnement et services récurrents forfaitaires)
B7: UTI1.1 - Licences éditeur/abonnement/hébergement Site Ademe Académie : Bons de commande forfaitaire à montant annuel | C7: Observations | D7: Quantité de référence par année | E7: Prix HT annuel | F7: Prix HT annuel associé à la quantité de référence
B8: … | D8: 1 | F8: =D8*E8 -> 0
B9: TOTAL : | F9: =SUM(F8:F8) -> 0
B10: UTI1.2 - Licences éditeur/abonnement/hébergement Site Ademe Act Formation : Bons de commande forfaitaire à montant annuel | C10: Observations | D10: Quantité de référence par année | E10: Prix HT annuel | F10: Prix HT annuel associé à la quantité de référence
B11: … | D11: 1 | F11: =D11*E11 -> 0
B12: TOTAL : | F12: =SUM(F11:F11) -> 0
B13: UTI1.3 - Licences éditeur/abonnement/hébergement Solution de gestion des formations : Bons de commande forfaitaire à montant annuel | C13: Observations | D13: Quantité de référence par année | E13: Prix HT annuel | F13: Prix HT annuel associé à la quantité de référence
B14: … | D14: 1 | F14: =D14*E14 -> 0
B15: TOTAL : | F15: =SUM(F14:F14) -> 0
B16: UTI1.4- Licences éditeur/abonnement/hébergement Plateforme LMS/MOOC : Bons de commande forfaitaire à montant annuel Tarification par palier d’utilisateurs actifs (licences) - Préciser les tranches de volume | C16: Observations | D16: Quantité de référence par année | E16: Prix HT annuel | F16: Prix HT annuel associé à la quantité de référence
B17: … | D17: 1 | F17: =D17*E17 -> 0
B18: … | D18: 1 | F18: =D18*E18 -> 0
B19: … | D19: 1 | F19: =D19*E19 -> 0
B20: … | D20: 1 | F20: =D20*E20 -> 0
D21: 1 | F21: =D21*E21 -> 0
B22: TOTAL : | F22: =F17 -> 0
B23: UTI2.1 - Maintenance logicielle et assistance Site Ademe Académie : Bons de commande forfaitaire à montant annuel | C23: Observations | D23: Quantité de référence par année | E23: Prix HT annuel | F23: Prix HT annuel associé à la quantité de référence
B24: … | D24: 1 | F24: =D24*E24 -> 0
B25: TOTAL : | F25: =SUM(F24:F24) -> 0
B26: UTI2.2 - Maintenance logicielle et assistance Site Ademe Act Formation : Bons de commande forfaitaire à montant annuel | C26: Observations | D26: Quantité de référence par année | E26: Prix HT annuel | F26: Prix HT annuel associé à la quantité de référence
B27: … | D27: 1 | F27: =D27*E27 -> 0
B28: TOTAL : | F28: =SUM(F27:F27) -> 0
B29: UTI2.3 - Maintenance logicielle et assistance Solution de gestion des formations : Bons de commande forfaitaire à montant annuel | C29: Observations | D29: Quantité de référence par année | E29: Prix HT annuel | F29: Prix HT annuel associé à la quantité de référence
B30: … | D30: 1 | F30: =D30*E30 -> 0
B31: TOTAL : | F31: =SUM(F30:F30) -> 0
B32: UTI2.4 - Maintenance logicielle et assistance Plateforme LMS/MOOC : Bons de commande forfaitaire à montant annuel | C32: Observations | D32: Quantité de référence par année | E32: Prix HT annuel | F32: Prix HT annuel associé à la quantité de référence
B33: … | D33: 1 | F33: =D33*E33 -> 0
B34: TOTAL : | F34: =SUM(F33:F33) -> 0
B35: TOTAL : | F35: =F9+F12+F15+F22+F25+F28+F31+F34 -> 0
B37: PRESTATION 2 : MISE EN ŒUVRE DE LA SOLUTION et ACCOMPAGNEMENT À SON UTILISATION
B38: 2.1 : Accompagnement technique ou humain en phase de projet : assistance à la configuration et au déploiement de la solution (BUILD) : Bon de commande d'accompagnement technique ou humain, incluant le droit d'utilisation et la maintenance/assistance de l'outil en phase de projet et démarrage (12 mois) | C38: Observations | D38: Charge en j.h | E38: Prix HT / j.h | F38: Décomposition du prix HT forfaitaire (pour info) | G38: Prix HT forfaitaire
B39: INI1 - Initialisation et étude préalable (prise de connaissance, audit, analyse de l'existant et préconisation sur la cible) | C39: … | F39: =D39*E39 -> 0 | G39: =F55 -> 0
B40: ASS1 - Assistance MOA et MOE - Pilotage de projet | C40: … | F40: =D40*E40 -> 0
B41: ASS2 - Assistance MOA et MOE - Conception | C41: … | F41: =D41*E41 -> 0
B42: ASS3 - Assistance MOA et MOE - Réalisation/intégration (paramétrage de ou des outils) | C42: … | F42: =D42*E42 -> 0
B43: ASS4 - Assistance MOA et MOE - Recette | C43: … | F43: =D43*E43 -> 0
...

Sheet SYNTHESE PRESTATIONS
B2: "Système intégré de gestion de la formation externe ADEME"
B4: PRESTATION | C4: Observations | D4: Coût € HT | E4: %
B5: ='3.Tarifs'!B6 -> PRESTATION 1 : DROIT D'UTILISATION DE(S) OUTIL(S) DE FORMATIONS MULTIMODALES (licences/abonnement et services récurrents forfaitaires) | C5: Bons de commande, estimation sur 5 ans, à compter de la 2e année du marché | D5: ='1.Synthèse'!E11 -> 0 | E5: =D5/$D$14 -> #DIV/0!
B6: ='1.Synthèse'!B14 -> PRESTATION 2 : MISE EN ŒUVRE DE LA SOLUTION et ACCOMPAGNEMENT À SON UTILISATION | D6: ='1.Synthèse'!E14 -> 0 | E6: =D6/$D$14 -> #DIV/0!
B7: ='1.Synthèse'!B15 -> 2.1 : Accompagnement technique ou humain en phase de projet : assistance à la configuration et au déploiement de la solution (BUILD) : Bon de commande d'accompagnement technique ou humain, incluant le droit d'utilisation et la maintenance/assistance de l'outil en phase de projet et démarrage (12 mois) | C7: Bon de commande exécuté une seule fois, 1 an, à compter du lancement du marché | D7: ='1.Synthèse'!E15 -> 0 | E7: =D7/$D$14 -> #DIV/0!
B8: ='1.Synthèse'!B32 -> 2.2 : Accompagnement ponctuel à la mise en place d'interfaces personnalisées (BUILD ou RUN) : Bons de commande d'accompagnement | C8: Bons de commande, estimation sur 6 ans, pouvant être exécutés dès lancement du marché | D8: ='1.Synthèse'!E32 -> 0 | E8: =D8/$D$14 -> #DIV/0!
B9: ='1.Synthèse'!B36 -> 2.3 Accompagnement à l'utilisation de la solution en mode récurrent (RUN) : Bons de commande d'accompagnement | C9: Bons de commande, estimation sur 64 mois, à compter de l'ouverture du service | D9: ='1.Synthèse'!E36 -> 0 | E9: =D9/$D$14 -> #DIV/0!
B10: ='1.Synthèse'!B45 -> 2.4 : Réversibilité : prestation ponctuelle (RUN) : Bons de commande d'accompagnement de réversibilité | C10: Bon de commande exécuté une seule fois | D10: ='1.Synthèse'!E45 -> 0 | E10: =D10/$D$14 -> #DIV/0!
B11: ='1.Synthèse'!B47 -> 2.5 Déplacements : Bons de commande d'accompagnement | C11: Bons de commande, estimation sur 6 ans, pouvant être exécutés dès lancement du marché | D11: ='1.Synthèse'!E47 -> 0 | E11: =D11/$D$14 -> #DIV/0!
B12: ='1.Synthèse'!B49 -> PRESTATION 3 : SERVICE de GESTION OPERATIONNELLE DE L'ACTIVITE DE FORMATION | C12: Bons de commande, estimation sur 64 mois, à compter de l'ouverture du service | D12: ='1.Synthèse'!E49 -> 0 | E12: =D12/$D$14 -> #DIV/0!
B13: ='1.Synthèse'!B57 -> PRESTATION 4 : GESTION de la LOCATION DES SALLES DE FORMATION ET PRESTATIONS ASSOCIEES | C13: Bons de commande, estimation sur 64 mois, à compter de l'ouverture du service | D13: ='1.Synthèse'!E57 -> 0 | E13: =D13/$D$14 -> #DIV/0!
B14: Coût total € HT | D14: =D5+D6+D12+D13 -> 0 | E14: =D14/$D$14 -> #DIV/0!
B16: TVA à 20 % | D16: =D14*20% -> 0
B17: Coût total € TTC* | D17: =SUM(D14:D16) -> 0
B18: * ce montant servira à la comparaison des offres
